Package: planttfhunter Version: 1.7.0 Command: /home/biocbuild/bbs-3.21-bioc/R/bin/R CMD check --install=check:planttfhunter.install-out.txt --library=/home/biocbuild/bbs-3.21-bioc/R/site-library --timings planttfhunter_1.7.0.tar.gz StartedAt: 2025-02-04 01:28:23 -0500 (Tue, 04 Feb 2025) EndedAt: 2025-02-04 01:31:21 -0500 (Tue, 04 Feb 2025) EllapsedTime: 178.4 seconds RetCode: 0 Status: OK CheckDir: planttfhunter.Rcheck Warnings: 0