Package: planttfhunter Version: 1.7.0 Command: /home/biocbuild/bbs-3.21-bioc/R/bin/R CMD INSTALL planttfhunter StartedAt: 2025-02-03 16:04:20 -0500 (Mon, 03 Feb 2025) EndedAt: 2025-02-03 16:04:42 -0500 (Mon, 03 Feb 2025) EllapsedTime: 22.9 seconds RetCode: 0 Status: OK