Package: planttfhunter Version: 1.7.0 Command: chmod a+r planttfhunter -R && E:\biocbuild\bbs-3.21-bioc\R\bin\R.exe CMD build --keep-empty-dirs --no-resave-data planttfhunter StartedAt: 2025-02-09 20:46:34 -0500 (Sun, 09 Feb 2025) EndedAt: 2025-02-09 20:47:15 -0500 (Sun, 09 Feb 2025) EllapsedTime: 40.9 seconds RetCode: 0 Status: OK PackageFile: planttfhunter_1.7.0.tar.gz PackageFileSize: 991.8 KiB