Package: planttfhunter Version: 1.7.0 Command: E:\biocbuild\bbs-3.21-bioc\R\bin\R.exe CMD check --no-multiarch --install=check:planttfhunter.install-out.txt --library=E:\biocbuild\bbs-3.21-bioc\R\library --no-vignettes --timings planttfhunter_1.7.0.tar.gz StartedAt: 2025-02-10 04:08:30 -0500 (Mon, 10 Feb 2025) EndedAt: 2025-02-10 04:11:56 -0500 (Mon, 10 Feb 2025) EllapsedTime: 205.9 seconds RetCode: 0 Status: OK CheckDir: planttfhunter.Rcheck Warnings: 0