Package: planttfhunter Version: 1.7.0 Command: E:\biocbuild\bbs-3.21-bioc\R\bin\R.exe CMD INSTALL planttfhunter StartedAt: 2025-02-09 16:09:06 -0500 (Sun, 09 Feb 2025) EndedAt: 2025-02-09 16:09:46 -0500 (Sun, 09 Feb 2025) EllapsedTime: 39.8 seconds RetCode: 0 Status: OK