Package: plgem Version: 1.79.0 Command: E:\biocbuild\bbs-3.21-bioc\R\bin\R.exe CMD check --no-multiarch --install=check:plgem.install-out.txt --library=E:\biocbuild\bbs-3.21-bioc\R\library --no-vignettes --timings plgem_1.79.0.tar.gz StartedAt: 2025-02-05 04:34:31 -0500 (Wed, 05 Feb 2025) EndedAt: 2025-02-05 04:35:37 -0500 (Wed, 05 Feb 2025) EllapsedTime: 65.6 seconds RetCode: 0 Status: OK CheckDir: plgem.Rcheck Warnings: 0