Package: plgem Version: 1.79.0 Command: E:\biocbuild\bbs-3.21-bioc\R\bin\R.exe CMD INSTALL plgem StartedAt: 2025-02-09 15:24:36 -0500 (Sun, 09 Feb 2025) EndedAt: 2025-02-09 15:24:46 -0500 (Sun, 09 Feb 2025) EllapsedTime: 10.7 seconds RetCode: 0 Status: OK