Package: plotgardener Version: 1.13.0 Command: /Library/Frameworks/R.framework/Resources/bin/R CMD check --install=check:plotgardener.install-out.txt --library=/Library/Frameworks/R.framework/Resources/library --no-vignettes --timings plotgardener_1.13.0.tar.gz StartedAt: 2025-02-09 20:41:12 -0500 (Sun, 09 Feb 2025) EndedAt: 2025-02-09 20:44:53 -0500 (Sun, 09 Feb 2025) EllapsedTime: 221.6 seconds RetCode: 0 Status: WARNINGS CheckDir: plotgardener.Rcheck Warnings: 1