Package: plotgardener Version: 1.13.0 Command: /home/biocbuild/R/R/bin/R CMD build --keep-empty-dirs --no-resave-data plotgardener StartedAt: 2025-01-29 01:18:11 -0000 (Wed, 29 Jan 2025) EndedAt: 2025-01-29 01:19:48 -0000 (Wed, 29 Jan 2025) EllapsedTime: 97.1 seconds RetCode: 0 Status: OK PackageFile: plotgardener_1.13.0.tar.gz PackageFileSize: 2.523 MiB