Package: plotgardener Version: 1.13.0 Command: /Library/Frameworks/R.framework/Resources/bin/R CMD build --keep-empty-dirs --no-resave-data plotgardener StartedAt: 2025-02-09 17:58:22 -0500 (Sun, 09 Feb 2025) EndedAt: 2025-02-09 17:59:40 -0500 (Sun, 09 Feb 2025) EllapsedTime: 77.9 seconds RetCode: 0 Status: OK PackageFile: plotgardener_1.13.0.tar.gz PackageFileSize: 2.848 MiB