Package: plotgardener Version: 1.13.0 Command: /Library/Frameworks/R.framework/Resources/bin/R CMD INSTALL plotgardener StartedAt: 2025-02-03 15:23:01 -0500 (Mon, 03 Feb 2025) EndedAt: 2025-02-03 15:24:05 -0500 (Mon, 03 Feb 2025) EllapsedTime: 63.5 seconds RetCode: 0 Status: OK