Package: plotgardener Version: 1.13.0 Command: /home/biocbuild/bbs-3.21-bioc/R/bin/R CMD INSTALL plotgardener StartedAt: 2025-02-03 15:41:47 -0500 (Mon, 03 Feb 2025) EndedAt: 2025-02-03 15:42:35 -0500 (Mon, 03 Feb 2025) EllapsedTime: 47.9 seconds RetCode: 0 Status: OK