Package: plyranges Version: 1.27.0 Command: /Library/Frameworks/R.framework/Resources/bin/R CMD build --keep-empty-dirs --no-resave-data plyranges StartedAt: 2025-02-09 17:15:58 -0500 (Sun, 09 Feb 2025) EndedAt: 2025-02-09 17:16:21 -0500 (Sun, 09 Feb 2025) EllapsedTime: 22.2 seconds RetCode: 0 Status: OK PackageFile: plyranges_1.27.0.tar.gz PackageFileSize: 1.241 MiB