Package: plyranges Version: 1.27.0 Command: /Library/Frameworks/R.framework/Resources/bin/R CMD check --install=check:plyranges.install-out.txt --library=/Library/Frameworks/R.framework/Resources/library --no-vignettes --timings plyranges_1.27.0.tar.gz StartedAt: 2025-02-09 20:41:35 -0500 (Sun, 09 Feb 2025) EndedAt: 2025-02-09 20:43:20 -0500 (Sun, 09 Feb 2025) EllapsedTime: 105.2 seconds RetCode: 1 Status: ERROR CheckDir: plyranges.Rcheck Warnings: NA