Package: plyranges Version: 1.27.0 Command: /Library/Frameworks/R.framework/Resources/bin/R CMD INSTALL plyranges StartedAt: 2025-02-09 15:08:39 -0500 (Sun, 09 Feb 2025) EndedAt: 2025-02-09 15:08:53 -0500 (Sun, 09 Feb 2025) EllapsedTime: 13.6 seconds RetCode: 0 Status: OK