Package: plyranges Version: 1.27.0 Command: /home/biocbuild/R/R/bin/R CMD check --install=check:plyranges.install-out.txt --library=/home/biocbuild/R/R/site-library --no-vignettes --timings plyranges_1.27.0.tar.gz StartedAt: 2025-01-28 13:58:15 -0000 (Tue, 28 Jan 2025) EndedAt: 2025-01-28 14:04:13 -0000 (Tue, 28 Jan 2025) EllapsedTime: 358.3 seconds RetCode: 0 Status: OK CheckDir: plyranges.Rcheck Warnings: 0