Package: plyranges Version: 1.27.0 Command: /home/biocbuild/R/R/bin/R CMD INSTALL plyranges StartedAt: 2025-01-29 19:49:22 -0000 (Wed, 29 Jan 2025) EndedAt: 2025-01-29 19:50:14 -0000 (Wed, 29 Jan 2025) EllapsedTime: 51.6 seconds RetCode: 0 Status: OK