Package: plyranges Version: 1.27.0 Command: /Library/Frameworks/R.framework/Resources/bin/R CMD build --keep-empty-dirs --no-resave-data plyranges StartedAt: 2025-02-03 17:56:29 -0500 (Mon, 03 Feb 2025) EndedAt: 2025-02-03 17:57:29 -0500 (Mon, 03 Feb 2025) EllapsedTime: 59.6 seconds RetCode: 0 Status: OK PackageFile: plyranges_1.27.0.tar.gz PackageFileSize: 1.24 MiB