Package: plyranges Version: 1.27.0 Command: rm -rf plyranges.buildbin-libdir && mkdir plyranges.buildbin-libdir && E:\biocbuild\bbs-3.21-bioc\R\bin\R.exe CMD INSTALL --build --library=plyranges.buildbin-libdir plyranges_1.27.0.tar.gz StartedAt: 2025-02-04 08:36:52 -0500 (Tue, 04 Feb 2025) EndedAt: 2025-02-04 08:38:33 -0500 (Tue, 04 Feb 2025) EllapsedTime: 101.7 seconds RetCode: 0 Status: OK PackageFile: plyranges_1.27.0.zip PackageFileSize: 1.532 MiB