Package: plyranges Version: 1.27.0 Command: chmod a+r plyranges -R && E:\biocbuild\bbs-3.21-bioc\R\bin\R.exe CMD build --keep-empty-dirs --no-resave-data plyranges StartedAt: 2025-02-09 20:47:46 -0500 (Sun, 09 Feb 2025) EndedAt: 2025-02-09 20:49:07 -0500 (Sun, 09 Feb 2025) EllapsedTime: 81.7 seconds RetCode: 0 Status: OK PackageFile: plyranges_1.27.0.tar.gz PackageFileSize: 1.225 MiB