Package: plyranges Version: 1.27.0 Command: E:\biocbuild\bbs-3.21-bioc\R\bin\R.exe CMD check --no-multiarch --install=check:plyranges.install-out.txt --library=E:\biocbuild\bbs-3.21-bioc\R\library --no-vignettes --timings plyranges_1.27.0.tar.gz StartedAt: 2025-02-10 04:09:58 -0500 (Mon, 10 Feb 2025) EndedAt: 2025-02-10 04:15:39 -0500 (Mon, 10 Feb 2025) EllapsedTime: 340.6 seconds RetCode: 0 Status: OK CheckDir: plyranges.Rcheck Warnings: 0