Package: plyranges Version: 1.27.0 Command: E:\biocbuild\bbs-3.21-bioc\R\bin\R.exe CMD INSTALL plyranges StartedAt: 2025-02-03 16:28:47 -0500 (Mon, 03 Feb 2025) EndedAt: 2025-02-03 16:30:13 -0500 (Mon, 03 Feb 2025) EllapsedTime: 85.9 seconds RetCode: 0 Status: OK