Package: pmm Version: 1.39.0 Command: rm -rf pmm.buildbin-libdir && mkdir pmm.buildbin-libdir && /Users/biocbuild/BBS/utils/build-universal.sh pmm_1.39.0.tar.gz /Library/Frameworks/R.framework/Resources/bin/R pmm.buildbin-libdir StartedAt: 2025-02-09 22:25:23 -0500 (Sun, 09 Feb 2025) EndedAt: 2025-02-09 22:25:27 -0500 (Sun, 09 Feb 2025) EllapsedTime: 4.1 seconds RetCode: 0 Status: OK PackageFile: pmm_1.39.0.tgz PackageFileSize: 810.1 KiB