Package: pmm Version: 1.39.0 Command: E:\biocbuild\bbs-3.21-bioc\R\bin\R.exe CMD check --no-multiarch --install=check:pmm.install-out.txt --library=E:\biocbuild\bbs-3.21-bioc\R\library --no-vignettes --timings pmm_1.39.0.tar.gz StartedAt: 2025-02-13 04:19:14 -0500 (Thu, 13 Feb 2025) EndedAt: 2025-02-13 04:20:56 -0500 (Thu, 13 Feb 2025) EllapsedTime: 102.1 seconds RetCode: 0 Status: OK CheckDir: pmm.Rcheck Warnings: 0