Package: podkat Version: 1.39.0 Command: /Library/Frameworks/R.framework/Resources/bin/R CMD build --keep-empty-dirs --no-resave-data podkat StartedAt: 2025-02-12 17:16:11 -0500 (Wed, 12 Feb 2025) EndedAt: 2025-02-12 17:17:13 -0500 (Wed, 12 Feb 2025) EllapsedTime: 62.7 seconds RetCode: 0 Status: OK PackageFile: podkat_1.39.0.tar.gz PackageFileSize: 1.09 MiB