Package: podkat Version: 1.39.0 Command: /home/biocbuild/R/R/bin/R CMD INSTALL podkat StartedAt: 2025-01-29 19:55:41 -0000 (Wed, 29 Jan 2025) EndedAt: 2025-01-29 19:57:29 -0000 (Wed, 29 Jan 2025) EllapsedTime: 107.9 seconds RetCode: 0 Status: OK