Package: podkat Version: 1.39.0 Command: rm -rf podkat.buildbin-libdir && mkdir podkat.buildbin-libdir && /Users/biocbuild/BBS/utils/build-universal.sh podkat_1.39.0.tar.gz /Library/Frameworks/R.framework/Resources/bin/R podkat.buildbin-libdir StartedAt: 2025-02-05 00:54:46 -0500 (Wed, 05 Feb 2025) EndedAt: 2025-02-05 00:56:24 -0500 (Wed, 05 Feb 2025) EllapsedTime: 98.1 seconds RetCode: 0 Status: OK PackageFile: podkat_1.39.0.tgz PackageFileSize: 2.495 MiB