Package: podkat Version: 1.39.0 Command: /Library/Frameworks/R.framework/Resources/bin/R CMD build --keep-empty-dirs --no-resave-data podkat StartedAt: 2025-02-04 17:51:57 -0500 (Tue, 04 Feb 2025) EndedAt: 2025-02-04 17:54:31 -0500 (Tue, 04 Feb 2025) EllapsedTime: 154.1 seconds RetCode: 0 Status: OK PackageFile: podkat_1.39.0.tar.gz PackageFileSize: 1.09 MiB