Package: podkat Version: 1.39.0 Command: /home/biocbuild/bbs-3.21-bioc/R/bin/R CMD INSTALL podkat StartedAt: 2025-02-04 15:26:41 -0500 (Tue, 04 Feb 2025) EndedAt: 2025-02-04 15:27:54 -0500 (Tue, 04 Feb 2025) EllapsedTime: 72.4 seconds RetCode: 0 Status: OK