Package: podkat Version: 1.39.0 Command: E:\biocbuild\bbs-3.21-bioc\R\bin\R.exe CMD check --no-multiarch --install=check:podkat.install-out.txt --library=E:\biocbuild\bbs-3.21-bioc\R\library --no-vignettes --timings podkat_1.39.0.tar.gz StartedAt: 2025-02-10 04:10:13 -0500 (Mon, 10 Feb 2025) EndedAt: 2025-02-10 04:20:16 -0500 (Mon, 10 Feb 2025) EllapsedTime: 603.3 seconds RetCode: 0 Status: OK CheckDir: podkat.Rcheck Warnings: 0