Package: pogos Version: 1.27.1 Maintainer: VJ Carey MaintainerEmail: stvjc at channing.harvard.edu git_url: https://git.bioconductor.org/packages/pogos git_branch: devel git_last_commit: c609080 git_last_commit_date: 2025-01-15 04:32:36 -0500 (Wed, 15 Jan 2025)