Package: pogos Version: 1.27.1 Command: /Library/Frameworks/R.framework/Resources/bin/R CMD build --keep-empty-dirs --no-resave-data pogos StartedAt: 2025-02-12 17:52:16 -0500 (Wed, 12 Feb 2025) EndedAt: 2025-02-12 17:54:57 -0500 (Wed, 12 Feb 2025) EllapsedTime: 160.7 seconds RetCode: 0 Status: OK PackageFile: pogos_1.27.1.tar.gz PackageFileSize: 2.094 MiB