Package: pogos Version: 1.27.1 Command: /home/biocbuild/bbs-3.21-bioc/R/bin/R CMD build --keep-empty-dirs --no-resave-data pogos StartedAt: 2025-02-09 18:41:46 -0500 (Sun, 09 Feb 2025) EndedAt: 2025-02-09 18:44:14 -0500 (Sun, 09 Feb 2025) EllapsedTime: 148.3 seconds RetCode: 0 Status: OK PackageFile: pogos_1.27.1.tar.gz PackageFileSize: 2.03 MiB