Package: pogos Version: 1.27.1 Command: /home/biocbuild/bbs-3.21-bioc/R/bin/R CMD check --install=check:pogos.install-out.txt --library=/home/biocbuild/bbs-3.21-bioc/R/site-library --timings pogos_1.27.1.tar.gz StartedAt: 2025-02-10 01:23:30 -0500 (Mon, 10 Feb 2025) EndedAt: 2025-02-10 01:29:24 -0500 (Mon, 10 Feb 2025) EllapsedTime: 354.4 seconds RetCode: 0 Status: OK CheckDir: pogos.Rcheck Warnings: 0