Package: pogos Version: 1.27.1 Command: /home/biocbuild/bbs-3.21-bioc/R/bin/R CMD INSTALL pogos StartedAt: 2025-02-09 15:35:07 -0500 (Sun, 09 Feb 2025) EndedAt: 2025-02-09 15:35:41 -0500 (Sun, 09 Feb 2025) EllapsedTime: 34.2 seconds RetCode: 0 Status: OK