Package: pogos Version: 1.27.1 Command: E:\biocbuild\bbs-3.21-bioc\R\bin\R.exe CMD check --no-multiarch --install=check:pogos.install-out.txt --library=E:\biocbuild\bbs-3.21-bioc\R\library --no-vignettes --timings pogos_1.27.1.tar.gz StartedAt: 2025-02-10 04:10:52 -0500 (Mon, 10 Feb 2025) EndedAt: 2025-02-10 04:15:24 -0500 (Mon, 10 Feb 2025) EllapsedTime: 272.2 seconds RetCode: 0 Status: OK CheckDir: pogos.Rcheck Warnings: 0