Package: polyester Version: 1.41.1 Maintainer: Jack Fu , Jeff Leek MaintainerEmail: jtleek at gmail.com git_url: https://git.bioconductor.org/packages/polyester git_branch: devel git_last_commit: cba7fe3 git_last_commit_date: 2024-08-21 14:47:28 -0400 (Wed, 21 Aug 2024)