Package: polyester Version: 1.41.1 Command: /home/biocbuild/bbs-3.21-bioc/R/bin/R CMD check --install=check:polyester.install-out.txt --library=/home/biocbuild/bbs-3.21-bioc/R/site-library --timings polyester_1.41.1.tar.gz StartedAt: 2024-10-24 09:00:13 -0400 (Thu, 24 Oct 2024) EndedAt: 2024-10-24 09:01:53 -0400 (Thu, 24 Oct 2024) EllapsedTime: 100.1 seconds RetCode: 1 Status: ERROR CheckDir: polyester.Rcheck Warnings: NA