Package: polyester Version: 1.41.1 Command: /home/biocbuild/bbs-3.21-bioc/R/bin/R CMD INSTALL polyester StartedAt: 2024-10-24 02:32:56 -0400 (Thu, 24 Oct 2024) EndedAt: 2024-10-24 02:33:06 -0400 (Thu, 24 Oct 2024) EllapsedTime: 10.4 seconds RetCode: 0 Status: OK