Package: powerTCR Version: 1.27.0 Maintainer: Hillary Koch MaintainerEmail: hillary.koch01 at gmail.com git_url: https://git.bioconductor.org/packages/powerTCR git_branch: devel git_last_commit: 2bb8d0f git_last_commit_date: 2024-10-29 10:25:33 -0500 (Tue, 29 Oct 2024)