Package: powerTCR Version: 1.27.0 Command: /Library/Frameworks/R.framework/Resources/bin/R CMD build --keep-empty-dirs --no-resave-data powerTCR StartedAt: 2025-02-09 17:16:28 -0500 (Sun, 09 Feb 2025) EndedAt: 2025-02-09 17:16:39 -0500 (Sun, 09 Feb 2025) EllapsedTime: 11.1 seconds RetCode: 0 Status: OK PackageFile: powerTCR_1.27.0.tar.gz PackageFileSize: 384.2 KiB