Package: powerTCR Version: 1.27.0 Command: /Library/Frameworks/R.framework/Resources/bin/R CMD check --install=check:powerTCR.install-out.txt --library=/Library/Frameworks/R.framework/Resources/library --no-vignettes --timings powerTCR_1.27.0.tar.gz StartedAt: 2025-02-12 20:47:14 -0500 (Wed, 12 Feb 2025) EndedAt: 2025-02-12 20:47:55 -0500 (Wed, 12 Feb 2025) EllapsedTime: 40.4 seconds RetCode: 0 Status: WARNINGS CheckDir: powerTCR.Rcheck Warnings: 1