Package: powerTCR Version: 1.27.0 Command: /home/biocbuild/R/R/bin/R CMD INSTALL powerTCR StartedAt: 2025-01-29 19:35:52 -0000 (Wed, 29 Jan 2025) EndedAt: 2025-01-29 19:36:15 -0000 (Wed, 29 Jan 2025) EllapsedTime: 23.1 seconds RetCode: 0 Status: OK