Package: powerTCR Version: 1.27.0 Command: /Library/Frameworks/R.framework/Resources/bin/R CMD check --install=check:powerTCR.install-out.txt --library=/Library/Frameworks/R.framework/Resources/library --no-vignettes --timings powerTCR_1.27.0.tar.gz StartedAt: 2025-02-09 22:45:21 -0500 (Sun, 09 Feb 2025) EndedAt: 2025-02-09 22:47:18 -0500 (Sun, 09 Feb 2025) EllapsedTime: 117.0 seconds RetCode: 0 Status: WARNINGS CheckDir: powerTCR.Rcheck Warnings: 1