Package: powerTCR Version: 1.27.0 Command: /home/biocbuild/bbs-3.21-bioc/R/bin/R CMD INSTALL powerTCR StartedAt: 2025-02-09 15:06:44 -0500 (Sun, 09 Feb 2025) EndedAt: 2025-02-09 15:07:19 -0500 (Sun, 09 Feb 2025) EllapsedTime: 34.9 seconds RetCode: 0 Status: OK