Package: powerTCR Version: 1.27.0 Command: E:\biocbuild\bbs-3.21-bioc\R\bin\R.exe CMD check --no-multiarch --install=check:powerTCR.install-out.txt --library=E:\biocbuild\bbs-3.21-bioc\R\library --no-vignettes --timings powerTCR_1.27.0.tar.gz StartedAt: 2025-02-10 04:11:57 -0500 (Mon, 10 Feb 2025) EndedAt: 2025-02-10 04:13:57 -0500 (Mon, 10 Feb 2025) EllapsedTime: 120.0 seconds RetCode: 0 Status: WARNINGS CheckDir: powerTCR.Rcheck Warnings: 1