Package: powerTCR Version: 1.27.0 Command: E:\biocbuild\bbs-3.21-bioc\R\bin\R.exe CMD INSTALL powerTCR StartedAt: 2025-02-09 15:28:49 -0500 (Sun, 09 Feb 2025) EndedAt: 2025-02-09 15:29:16 -0500 (Sun, 09 Feb 2025) EllapsedTime: 27.3 seconds RetCode: 0 Status: OK