Package: ppcseq Version: 1.15.0 Command: /Library/Frameworks/R.framework/Resources/bin/R CMD check --install=check:ppcseq.install-out.txt --library=/Library/Frameworks/R.framework/Resources/library --no-vignettes --timings ppcseq_1.15.0.tar.gz StartedAt: 2025-02-09 22:46:00 -0500 (Sun, 09 Feb 2025) EndedAt: 2025-02-09 22:48:04 -0500 (Sun, 09 Feb 2025) EllapsedTime: 124.0 seconds RetCode: 0 Status: OK CheckDir: ppcseq.Rcheck Warnings: 0