Package: ppcseq Version: 1.15.0 Command: chmod a+r ppcseq -R && E:\biocbuild\bbs-3.21-bioc\R\bin\R.exe CMD build --keep-empty-dirs --no-resave-data ppcseq StartedAt: 2025-02-09 20:50:22 -0500 (Sun, 09 Feb 2025) EndedAt: 2025-02-09 20:54:08 -0500 (Sun, 09 Feb 2025) EllapsedTime: 225.9 seconds RetCode: 0 Status: OK PackageFile: ppcseq_1.15.0.tar.gz PackageFileSize: 1.939 MiB