Package: ppcseq Version: 1.15.0 Command: E:\biocbuild\bbs-3.21-bioc\R\bin\R.exe CMD INSTALL ppcseq StartedAt: 2025-02-09 15:32:12 -0500 (Sun, 09 Feb 2025) EndedAt: 2025-02-09 15:40:49 -0500 (Sun, 09 Feb 2025) EllapsedTime: 517.7 seconds RetCode: 0 Status: OK